BEGIN:VCALENDAR
VERSION:2.0
PRODID:-//The Living Rooms - ECPv6.15.15//NONSGML v1.0//EN
CALSCALE:GREGORIAN
METHOD:PUBLISH
X-WR-CALNAME:The Living Rooms
X-ORIGINAL-URL:https://livingrooms.nz
X-WR-CALDESC:Events for The Living Rooms
REFRESH-INTERVAL;VALUE=DURATION:PT1H
X-Robots-Tag:noindex
X-PUBLISHED-TTL:PT1H
BEGIN:VTIMEZONE
TZID:Pacific/Auckland
BEGIN:STANDARD
TZOFFSETFROM:+1300
TZOFFSETTO:+1200
TZNAME:NZST
DTSTART:20230401T140000
END:STANDARD
BEGIN:DAYLIGHT
TZOFFSETFROM:+1200
TZOFFSETTO:+1300
TZNAME:NZDT
DTSTART:20230923T140000
END:DAYLIGHT
BEGIN:STANDARD
TZOFFSETFROM:+1300
TZOFFSETTO:+1200
TZNAME:NZST
DTSTART:20240406T140000
END:STANDARD
BEGIN:DAYLIGHT
TZOFFSETFROM:+1200
TZOFFSETTO:+1300
TZNAME:NZDT
DTSTART:20240928T140000
END:DAYLIGHT
BEGIN:STANDARD
TZOFFSETFROM:+1300
TZOFFSETTO:+1200
TZNAME:NZST
DTSTART:20250405T140000
END:STANDARD
BEGIN:DAYLIGHT
TZOFFSETFROM:+1200
TZOFFSETTO:+1300
TZNAME:NZDT
DTSTART:20250927T140000
END:DAYLIGHT
END:VTIMEZONE
BEGIN:VEVENT
DTSTART;TZID=Pacific/Auckland:20241201T100000
DTEND;TZID=Pacific/Auckland:20241201T123000
DTSTAMP:20260420T043746
CREATED:20231120T011730Z
LAST-MODIFIED:20240409T113920Z
UID:10000216-1733047200-1733056200@livingrooms.nz
SUMMARY:Living Rooms: Combined Monthly Gathering
DESCRIPTION:We value connection to the wider body\, and from the outset the Living Rooms have continued to meet with one another through a monthly combined gathering. This is a time to worship together\, hear testimonies\, share a message and to build faith over the stories of God at work in our lives. We take encouragement from how He is using our people in the workplace\, stories of His hand on our families\, and the far-reaching impact of the many ministries our members are involved in\, both at home and overseas. \nLocation: The Sanctuary 159 Durham St.
URL:https://livingrooms.nz/event/living-rooms-monthly-gathering/2024-12-01/
LOCATION:The Sanctuary\, 159 Durham St\, Tauranga\, Bay of Plenty\, 3110\, New Zealand
ATTACH;FMTTYPE=image/png:https://livingrooms.nz/wp-content/uploads/2023/11/Your-paragraph-text.png
END:VEVENT
BEGIN:VEVENT
DTSTART;TZID=Pacific/Auckland:20241103T100000
DTEND;TZID=Pacific/Auckland:20241103T123000
DTSTAMP:20260420T043746
CREATED:20231120T011730Z
LAST-MODIFIED:20240409T113920Z
UID:10000215-1730628000-1730637000@livingrooms.nz
SUMMARY:Living Rooms: Combined Monthly Gathering
DESCRIPTION:We value connection to the wider body\, and from the outset the Living Rooms have continued to meet with one another through a monthly combined gathering. This is a time to worship together\, hear testimonies\, share a message and to build faith over the stories of God at work in our lives. We take encouragement from how He is using our people in the workplace\, stories of His hand on our families\, and the far-reaching impact of the many ministries our members are involved in\, both at home and overseas. \nLocation: The Sanctuary 159 Durham St.
URL:https://livingrooms.nz/event/living-rooms-monthly-gathering/2024-11-03/
LOCATION:The Sanctuary\, 159 Durham St\, Tauranga\, Bay of Plenty\, 3110\, New Zealand
ATTACH;FMTTYPE=image/png:https://livingrooms.nz/wp-content/uploads/2023/11/Your-paragraph-text.png
END:VEVENT
BEGIN:VEVENT
DTSTART;TZID=Pacific/Auckland:20241006T100000
DTEND;TZID=Pacific/Auckland:20241006T123000
DTSTAMP:20260420T043746
CREATED:20231120T011730Z
LAST-MODIFIED:20240409T113920Z
UID:10000214-1728208800-1728217800@livingrooms.nz
SUMMARY:Living Rooms: Combined Monthly Gathering
DESCRIPTION:We value connection to the wider body\, and from the outset the Living Rooms have continued to meet with one another through a monthly combined gathering. This is a time to worship together\, hear testimonies\, share a message and to build faith over the stories of God at work in our lives. We take encouragement from how He is using our people in the workplace\, stories of His hand on our families\, and the far-reaching impact of the many ministries our members are involved in\, both at home and overseas. \nLocation: The Sanctuary 159 Durham St.
URL:https://livingrooms.nz/event/living-rooms-monthly-gathering/2024-10-06/
LOCATION:The Sanctuary\, 159 Durham St\, Tauranga\, Bay of Plenty\, 3110\, New Zealand
ATTACH;FMTTYPE=image/png:https://livingrooms.nz/wp-content/uploads/2023/11/Your-paragraph-text.png
END:VEVENT
BEGIN:VEVENT
DTSTART;TZID=Pacific/Auckland:20240901T100000
DTEND;TZID=Pacific/Auckland:20240901T123000
DTSTAMP:20260420T043746
CREATED:20231120T011730Z
LAST-MODIFIED:20240409T113920Z
UID:10000213-1725184800-1725193800@livingrooms.nz
SUMMARY:Living Rooms: Combined Monthly Gathering
DESCRIPTION:We value connection to the wider body\, and from the outset the Living Rooms have continued to meet with one another through a monthly combined gathering. This is a time to worship together\, hear testimonies\, share a message and to build faith over the stories of God at work in our lives. We take encouragement from how He is using our people in the workplace\, stories of His hand on our families\, and the far-reaching impact of the many ministries our members are involved in\, both at home and overseas. \nLocation: The Sanctuary 159 Durham St.
URL:https://livingrooms.nz/event/living-rooms-monthly-gathering/2024-09-01/
LOCATION:The Sanctuary\, 159 Durham St\, Tauranga\, Bay of Plenty\, 3110\, New Zealand
ATTACH;FMTTYPE=image/png:https://livingrooms.nz/wp-content/uploads/2023/11/Your-paragraph-text.png
END:VEVENT
BEGIN:VEVENT
DTSTART;TZID=Pacific/Auckland:20240804T100000
DTEND;TZID=Pacific/Auckland:20240804T123000
DTSTAMP:20260420T043746
CREATED:20231120T011730Z
LAST-MODIFIED:20240409T113920Z
UID:10000212-1722765600-1722774600@livingrooms.nz
SUMMARY:Living Rooms: Combined Monthly Gathering
DESCRIPTION:We value connection to the wider body\, and from the outset the Living Rooms have continued to meet with one another through a monthly combined gathering. This is a time to worship together\, hear testimonies\, share a message and to build faith over the stories of God at work in our lives. We take encouragement from how He is using our people in the workplace\, stories of His hand on our families\, and the far-reaching impact of the many ministries our members are involved in\, both at home and overseas. \nLocation: The Sanctuary 159 Durham St.
URL:https://livingrooms.nz/event/living-rooms-monthly-gathering/2024-08-04/
LOCATION:The Sanctuary\, 159 Durham St\, Tauranga\, Bay of Plenty\, 3110\, New Zealand
ATTACH;FMTTYPE=image/png:https://livingrooms.nz/wp-content/uploads/2023/11/Your-paragraph-text.png
END:VEVENT
BEGIN:VEVENT
DTSTART;TZID=Pacific/Auckland:20240707T100000
DTEND;TZID=Pacific/Auckland:20240707T123000
DTSTAMP:20260420T043746
CREATED:20231120T011730Z
LAST-MODIFIED:20240409T113920Z
UID:10000211-1720346400-1720355400@livingrooms.nz
SUMMARY:Living Rooms: Combined Monthly Gathering
DESCRIPTION:We value connection to the wider body\, and from the outset the Living Rooms have continued to meet with one another through a monthly combined gathering. This is a time to worship together\, hear testimonies\, share a message and to build faith over the stories of God at work in our lives. We take encouragement from how He is using our people in the workplace\, stories of His hand on our families\, and the far-reaching impact of the many ministries our members are involved in\, both at home and overseas. \nLocation: The Sanctuary 159 Durham St.
URL:https://livingrooms.nz/event/living-rooms-monthly-gathering/2024-07-07/
LOCATION:The Sanctuary\, 159 Durham St\, Tauranga\, Bay of Plenty\, 3110\, New Zealand
ATTACH;FMTTYPE=image/png:https://livingrooms.nz/wp-content/uploads/2023/11/Your-paragraph-text.png
END:VEVENT
BEGIN:VEVENT
DTSTART;VALUE=DATE:20240614
DTEND;VALUE=DATE:20240616
DTSTAMP:20260420T043746
CREATED:20240408T010712Z
LAST-MODIFIED:20240611T065353Z
UID:10000464-1718323200-1718495999@livingrooms.nz
SUMMARY:The Way/ Forward NZ + AUS
DESCRIPTION:This event is sold out!\nJOIN US as we follow The Way/ Forward together.\nThe Living Rooms are partnering with Revive the Way and Rhema Trayner to bring The Way/ Forward to Tauranga. \nWe are followers of The Way who are going after REGIONAL UNITY & GOD’S PATTERN for His Ekklesia. We are SAINTS & LEADERS from all spheres of influence. From house church leaders\, marketplace ministers\, new church planters\, five-fold ministers\, ministers at home\, leaders of ministries and leaders within traditional expressions of the church. The thing we have in common is the desire to understand what Jesus is doing and to respond to this unique moment faithfully. We are from many generations and various streams\, yet we recognize that God is calling us to walk together. \nSUNDAY- TAURANGA ONLY | BRUNCH & LEADERSHIP DAY INTENSIVE \nJune 6-8: Atlanta\, USA\nJune 14-15: Tauranga\, NZ\nJune 28-29: Brisbane\, AUS\nJuly 5-6: Sydney\, AUS\nJuly 12-13: Bendigo\, AUS\nJuly 19-20: Melbourne\, AUS\nJuly 26-27: Perth\, AUS \nPlease note* The Registration process will include the option for individual\, couples or family registration and payment is made by making a Donation. All donations are in $USD\, but will transfer to show $NZD amount on your bank statement. \nSOLD OUT!
URL:https://livingrooms.nz/event/the-way-forward/
LOCATION:The Sanctuary\, 159 Durham St\, Tauranga\, Bay of Plenty\, 3110\, New Zealand
CATEGORIES:Featured
ATTACH;FMTTYPE=image/jpeg:https://livingrooms.nz/wp-content/uploads/2024/04/Way-Forward-Tauranga-.jpeg
END:VEVENT
BEGIN:VEVENT
DTSTART;TZID=Pacific/Auckland:20240602T100000
DTEND;TZID=Pacific/Auckland:20240602T123000
DTSTAMP:20260420T043746
CREATED:20231120T011730Z
LAST-MODIFIED:20240409T113920Z
UID:10000210-1717322400-1717331400@livingrooms.nz
SUMMARY:Living Rooms: Combined Monthly Gathering
DESCRIPTION:We value connection to the wider body\, and from the outset the Living Rooms have continued to meet with one another through a monthly combined gathering. This is a time to worship together\, hear testimonies\, share a message and to build faith over the stories of God at work in our lives. We take encouragement from how He is using our people in the workplace\, stories of His hand on our families\, and the far-reaching impact of the many ministries our members are involved in\, both at home and overseas. \nLocation: The Sanctuary 159 Durham St.
URL:https://livingrooms.nz/event/living-rooms-monthly-gathering/2024-06-02/
LOCATION:The Sanctuary\, 159 Durham St\, Tauranga\, Bay of Plenty\, 3110\, New Zealand
ATTACH;FMTTYPE=image/png:https://livingrooms.nz/wp-content/uploads/2023/11/Your-paragraph-text.png
END:VEVENT
BEGIN:VEVENT
DTSTART;TZID=Pacific/Auckland:20240505T100000
DTEND;TZID=Pacific/Auckland:20240505T123000
DTSTAMP:20260420T043746
CREATED:20231120T011730Z
LAST-MODIFIED:20240409T113920Z
UID:10000209-1714903200-1714912200@livingrooms.nz
SUMMARY:Living Rooms: Combined Monthly Gathering
DESCRIPTION:We value connection to the wider body\, and from the outset the Living Rooms have continued to meet with one another through a monthly combined gathering. This is a time to worship together\, hear testimonies\, share a message and to build faith over the stories of God at work in our lives. We take encouragement from how He is using our people in the workplace\, stories of His hand on our families\, and the far-reaching impact of the many ministries our members are involved in\, both at home and overseas. \nLocation: The Sanctuary 159 Durham St.
URL:https://livingrooms.nz/event/living-rooms-monthly-gathering/2024-05-05/
LOCATION:The Sanctuary\, 159 Durham St\, Tauranga\, Bay of Plenty\, 3110\, New Zealand
ATTACH;FMTTYPE=image/png:https://livingrooms.nz/wp-content/uploads/2023/11/Your-paragraph-text.png
END:VEVENT
BEGIN:VEVENT
DTSTART;TZID=Pacific/Auckland:20240407T100000
DTEND;TZID=Pacific/Auckland:20240407T123000
DTSTAMP:20260420T043746
CREATED:20231120T011730Z
LAST-MODIFIED:20240409T113920Z
UID:10000208-1712484000-1712493000@livingrooms.nz
SUMMARY:Living Rooms: Combined Monthly Gathering
DESCRIPTION:We value connection to the wider body\, and from the outset the Living Rooms have continued to meet with one another through a monthly combined gathering. This is a time to worship together\, hear testimonies\, share a message and to build faith over the stories of God at work in our lives. We take encouragement from how He is using our people in the workplace\, stories of His hand on our families\, and the far-reaching impact of the many ministries our members are involved in\, both at home and overseas. \nLocation: The Sanctuary 159 Durham St.
URL:https://livingrooms.nz/event/living-rooms-monthly-gathering/2024-04-07/
LOCATION:The Sanctuary\, 159 Durham St\, Tauranga\, Bay of Plenty\, 3110\, New Zealand
ATTACH;FMTTYPE=image/png:https://livingrooms.nz/wp-content/uploads/2023/11/Your-paragraph-text.png
END:VEVENT
BEGIN:VEVENT
DTSTART;TZID=Pacific/Auckland:20240303T100000
DTEND;TZID=Pacific/Auckland:20240303T123000
DTSTAMP:20260420T043746
CREATED:20231120T011730Z
LAST-MODIFIED:20240409T113920Z
UID:10000207-1709460000-1709469000@livingrooms.nz
SUMMARY:Living Rooms: Combined Monthly Gathering
DESCRIPTION:We value connection to the wider body\, and from the outset the Living Rooms have continued to meet with one another through a monthly combined gathering. This is a time to worship together\, hear testimonies\, share a message and to build faith over the stories of God at work in our lives. We take encouragement from how He is using our people in the workplace\, stories of His hand on our families\, and the far-reaching impact of the many ministries our members are involved in\, both at home and overseas. \nLocation: The Sanctuary 159 Durham St.
URL:https://livingrooms.nz/event/living-rooms-monthly-gathering/2024-03-03/
LOCATION:The Sanctuary\, 159 Durham St\, Tauranga\, Bay of Plenty\, 3110\, New Zealand
ATTACH;FMTTYPE=image/png:https://livingrooms.nz/wp-content/uploads/2023/11/Your-paragraph-text.png
END:VEVENT
BEGIN:VEVENT
DTSTART;TZID=Pacific/Auckland:20240204T100000
DTEND;TZID=Pacific/Auckland:20240204T123000
DTSTAMP:20260420T043746
CREATED:20231120T011730Z
LAST-MODIFIED:20240409T113920Z
UID:10000206-1707040800-1707049800@livingrooms.nz
SUMMARY:Living Rooms: Combined Monthly Gathering
DESCRIPTION:We value connection to the wider body\, and from the outset the Living Rooms have continued to meet with one another through a monthly combined gathering. This is a time to worship together\, hear testimonies\, share a message and to build faith over the stories of God at work in our lives. We take encouragement from how He is using our people in the workplace\, stories of His hand on our families\, and the far-reaching impact of the many ministries our members are involved in\, both at home and overseas. \nLocation: The Sanctuary 159 Durham St.
URL:https://livingrooms.nz/event/living-rooms-monthly-gathering/2024-02-04/
LOCATION:The Sanctuary\, 159 Durham St\, Tauranga\, Bay of Plenty\, 3110\, New Zealand
ATTACH;FMTTYPE=image/png:https://livingrooms.nz/wp-content/uploads/2023/11/Your-paragraph-text.png
END:VEVENT
END:VCALENDAR